BEGIN:VCALENDAR
VERSION:2.0
PRODID:-//eventon.com NONSGML v1.0//EN
CALSCALE:GREGORIAN
METHOD:PUBLISH
BEGIN:VEVENT
UID:69ebb26204a65
DTSTAMP:20260424T181146Z
DTSTART:20241124T000000Z
DTEND:20241124T040000Z
LOCATION:Main Beach\,  Cultus Lake 103 First Ave\,  Cultus Lake\,  BC
SUMMARY:Cultus Lake Christmas
DESCRIPTION:Join in on the free\,  family friendly festivities at Main Beac
 h! Take a photo with Santa Claus\,  shop the local artisan vendors\,  and s
 ip hot cocoa. The Christmas light display turns Cultus Lake Park into a win
 ter wonderland. This year\,  the event will feature a fireworks display off
  the Main[..]\nhttps://www.thefraservalley.ca/events/cultus-lake-christmas/
URL:https://www.thefraservalley.ca/events/cultus-lake-christmas/
END:VEVENT
END:VCALENDAR