BEGIN:VCALENDAR
VERSION:2.0
PRODID:-//eventon.com NONSGML v1.0//EN
CALSCALE:GREGORIAN
METHOD:PUBLISH
BEGIN:VEVENT
UID:69ebb624f2b9d
DTSTAMP:20260424T182748Z
DTSTART:20241031T233000Z
DTEND:20241101T065900Z
LOCATION:Greendale Acres 41905 Yale Rd W\,  Chilliwack\,  BC
SUMMARY:Halloween Parade + Dance
DESCRIPTION:Get ready for a fun pre-halloween trick or treating party.&nbsp
 ; Dress up in your best costume and join our festive parade throughout the 
 farm.&nbsp; Whether you’re a spooky ghost or a friendly pumpkin\,  everyo
 ne is welcome to show off their Halloween spirit. &nbsp; After the parade\,
   get ready to dance[..]\nhttps://www.thefraservalley.ca/events/halloween-p
 arade-dance/
URL:https://www.thefraservalley.ca/events/halloween-parade-dance/
END:VEVENT
END:VCALENDAR