BEGIN:VCALENDAR
VERSION:2.0
PRODID:-//eventon.com NONSGML v1.0//EN
CALSCALE:GREGORIAN
METHOD:PUBLISH
BEGIN:VEVENT
UID:69e5df8d6185e
DTSTAMP:20260420T081053Z
DTSTART:20241031T220000Z
DTEND:20241101T000000Z
LOCATION:Downtown Mission 1 Ave\,  Mission\,  BC
SUMMARY:Downtown Mission Trick or Treat
DESCRIPTION:Bring your family and friends to 1st Avenue for an afternoon of
  Trick or Treating that is always sure to please the crowds! Participating 
 locations will have door signs indicating their &#8220;Candy Zone&#8221; an
 d will be handing out candy for all of the trick&#8217;o&#8217;treaters aro
 und Mission.\nhttps://www.thefraservalley.ca/events/downtown-mission-trick-
 or-treat/
URL:https://www.thefraservalley.ca/events/downtown-mission-trick-or-treat/
END:VEVENT
END:VCALENDAR