BEGIN:VCALENDAR
VERSION:2.0
PRODID:-//eventon.com NONSGML v1.0//EN
CALSCALE:GREGORIAN
METHOD:PUBLISH
BEGIN:VEVENT
UID:69eba2858d2e0
DTSTAMP:20260424T170405Z
DTSTART:20241122T000000Z
DTEND:20241122T040000Z
LOCATION:Downtown Mission 1 Ave\,  Mission\,  BC
SUMMARY:Customer Appreciation Night
DESCRIPTION:Do your Christmas shopping close to home in Downtown Mission\, 
  while helping to support local business this holiday season. Stay for the 
 tree lighting at 8:30pm\nhttps://www.thefraservalley.ca/events/customer-app
 reciation-night/
URL:https://www.thefraservalley.ca/events/customer-appreciation-night/
END:VEVENT
END:VCALENDAR