BEGIN:VCALENDAR
VERSION:2.0
PRODID:-//eventon.com NONSGML v1.0//EN
CALSCALE:GREGORIAN
METHOD:PUBLISH
BEGIN:VEVENT
UID:69e5dfbd74ad4
DTSTAMP:20260420T081141Z
DTSTART:20241230T010000Z
DTEND:20241230T075900Z
LOCATION:Chilliwack Coliseum 45323 Hodgins Ave\,  Chilliwack\,  BC
SUMMARY:Chilliwack Chiefs Game
DESCRIPTION:Come cheer on the Chilliwack Chiefs at the Coliseum! Oct 30: vs
  Langley @ 7pm Nov 1: vs Powell River @ 7pm Nov 2: vs Nanaimo @ 6pm Nov 9: 
 vs Surrey @ 6pm Nov 15: vs Cowichan Valley @ 7pm Nov 16: vs Prince George @
  6pm Nov 23:[..]\nhttps://www.thefraservalley.ca/events/chilliwack-chiefs-g
 ame-11/
URL:https://www.thefraservalley.ca/events/chilliwack-chiefs-game-11/
END:VEVENT
END:VCALENDAR