BEGIN:VCALENDAR
VERSION:2.0
PRODID:-//eventon.com NONSGML v1.0//EN
CALSCALE:GREGORIAN
METHOD:PUBLISH
BEGIN:VEVENT
UID:69e736afc1cd6
DTSTAMP:20260421T083455Z
DTSTART:20241130T180000Z
DTEND:20241130T220000Z
LOCATION:Cascade Community Church 35190 Delair Rd\,  Abbotsford\,  BC
SUMMARY:Christmas Market - Brunch & Bake Sale
DESCRIPTION:We are excited for you to join us at the annual Christmas Marke
 t – Brunch &amp; Bake Sale. We are currently seeing vendors – don’t h
 esitate – book your space today – 604.556.7000. We offer a very popular
  brunch buffet – served from 10am-12pm – by donation.&nbsp; &nbsp;Gener
 al Admission is[..]\nhttps://www.thefraservalley.ca/events/christmas-market
 -brunch-bake-sale-2/
URL:https://www.thefraservalley.ca/events/christmas-market-brunch-bake-sale-2/
END:VEVENT
END:VCALENDAR