BEGIN:VCALENDAR
VERSION:2.0
PRODID:-//eventon.com NONSGML v1.0//EN
CALSCALE:GREGORIAN
METHOD:PUBLISH
BEGIN:VEVENT
UID:69e73aaac81eb
DTSTAMP:20260421T085154Z
DTSTART:20241130T203000Z
DTEND:20241201T010000Z
LOCATION:Fort Langley National Historic Site of Canada 23433 Mavis Ave\,  Langley Township\,  BC
SUMMARY:Copper Star and Lantern Workshops – In Person
DESCRIPTION:Looking to create your unique holiday decoration this year? Joi
 n their expert blacksmith\,  Danny\,  for a hands-on workshop where you’l
 l craft your copper star or lantern\,  perfect for the holiday season! Adva
 nce registration is required due to limited spaces. Register now: https://s
 horturl.at/v9seV\nhttps://www.thefraservalley.ca/events/copper-star-and-lan
 tern-workshops-in-person/
URL:https://www.thefraservalley.ca/events/copper-star-and-lantern-workshops-in-person/
END:VEVENT
END:VCALENDAR