BEGIN:VCALENDAR
VERSION:2.0
PRODID:-//eventon.com NONSGML v1.0//EN
CALSCALE:GREGORIAN
METHOD:PUBLISH
BEGIN:VEVENT
UID:69ecf0713a57d
DTSTAMP:20260425T164849Z
DTSTART:20241124T200000Z
DTEND:20241124T220000Z
LOCATION:Kariton Art Gallery 2387 Ware Street\,  Abbotsford\,  BC
SUMMARY:Mill Lake Music: Theo Riley & RC Weslowski
DESCRIPTION:Mill Lake Music is BACK! Come and enjoy free live music and spo
 ken word poetry at the Kariton Gallery.\nhttps://www.thefraservalley.ca/eve
 nts/mill-lake-music-theo-riley-rc-weslowski/
URL:https://www.thefraservalley.ca/events/mill-lake-music-theo-riley-rc-weslowski/
END:VEVENT
END:VCALENDAR