BEGIN:VCALENDAR
VERSION:2.0
PRODID:-//eventon.com NONSGML v1.0//EN
CALSCALE:GREGORIAN
METHOD:PUBLISH
BEGIN:VEVENT
UID:69e7d6100ec86
DTSTAMP:20260421T195456Z
DTSTART:20241214T220000Z
DTEND:20241214T233000Z
LOCATION:Minter Country Garden 10015 Young Rd\,  Chilliwack\,  BC
SUMMARY:Cascadia Wind Ensemble
DESCRIPTION:We’re thrilled to welcome members of the Cascadia Wind Ensemb
 le back to the garden centre this season! The band will be playing holiday 
 tunes and classic favourites this afternoon so come on down and have a list
 en! There is no charge to attend but please dress warmly as the performance
 [..]\nhttps://www.thefraservalley.ca/events/cascadia-wind-ensemble-2/
URL:https://www.thefraservalley.ca/events/cascadia-wind-ensemble-2/
END:VEVENT
END:VCALENDAR