BEGIN:VCALENDAR
VERSION:2.0
PRODID:-//eventon.com NONSGML v1.0//EN
CALSCALE:GREGORIAN
METHOD:PUBLISH
BEGIN:VEVENT
UID:69ead06a9b22f
DTSTAMP:20260424T020738Z
DTSTART:20241215T020000Z
DTEND:20241215T060000Z
LOCATION:The Grand Hall #201 45939 Thunderbird Lane\,  Chilliwack\,  BC
SUMMARY:Mountain Town Series
DESCRIPTION:Join us again for our second instalment of the&nbsp;Mountain To
 wn Series. This time around we are donating funds to The Fraser Valley Clim
 bing Society The BRIT ROCK FILM TOUR&nbsp;is back for 2023 with another stu
 nning line-up of the UK’s best climbing and adventure films. Five exhilar
 ating films capturing an array[..]\nhttps://www.thefraservalley.ca/events/m
 ountain-town-series/
URL:https://www.thefraservalley.ca/events/mountain-town-series/
END:VEVENT
END:VCALENDAR