BEGIN:VCALENDAR
VERSION:2.0
PRODID:-//eventon.com NONSGML v1.0//EN
CALSCALE:GREGORIAN
METHOD:PUBLISH
BEGIN:VEVENT
UID:69e53d9d8e01f
DTSTAMP:20260419T203957Z
DTSTART:20241202T030000Z
DTEND:20241202T050000Z
LOCATION:Fort Langley National Historic Site of Canada 23433 Mavis Ave\,  Langley Township\,  BC
SUMMARY:Copper Star and Lantern Workshops – Virtual
DESCRIPTION:Looking to create your unique holiday decoration this year? Joi
 n their expert blacksmith\,  Danny\,  for a hands-on workshop where you’l
 l craft your copper star or lantern\,  perfect for the holiday season! Adva
 nce registration is required due to limited spaces. Register now: https://s
 horturl.at/v9seV\nhttps://www.thefraservalley.ca/events/copper-star-and-lan
 tern-workshops-virtual-2/
URL:https://www.thefraservalley.ca/events/copper-star-and-lantern-workshops-virtual-2/
END:VEVENT
END:VCALENDAR