BEGIN:VCALENDAR
VERSION:2.0
PRODID:-//eventon.com NONSGML v1.0//EN
CALSCALE:GREGORIAN
METHOD:PUBLISH
BEGIN:VEVENT
UID:69eb93b9967d6
DTSTAMP:20260424T160057Z
DTSTART:20241214T223000Z
DTEND:20241215T033000Z
LOCATION:Pioneer Avenue Pioneer Avenue\,  Harrison\,  BC
SUMMARY:Winter Night Lights
DESCRIPTION:Winter Night Lights brings a little holiday spirit to downtown 
 Agassiz! Enjoy a stroll along Pioneer Avenue and take in the Christmas ligh
 ts display at the Agassiz-Harrison Museum\,  Historic Aberdeen building\,  
 and Pioneer Park from December 1-31. While downtown\,  make sure to stop in
 to the local businesses and take advantage[..]\nhttps://www.thefraservalley
 .ca/events/winter-night-lights-2/
URL:https://www.thefraservalley.ca/events/winter-night-lights-2/
END:VEVENT
END:VCALENDAR