BEGIN:VCALENDAR
VERSION:2.0
PRODID:-//eventon.com NONSGML v1.0//EN
CALSCALE:GREGORIAN
METHOD:PUBLISH
BEGIN:VEVENT
UID:69ed878ab6b61
DTSTAMP:20260426T033330Z
DTSTART:20241220
DTEND:20241221
LOCATION:Fort Langley 9167 Glover Road\,  Langley\,  BC
SUMMARY:Christmas in the Village of Fort Langley
DESCRIPTION:Christmas market\nhttps://www.thefraservalley.ca/events/christm
 as-in-the-village-of-fort-langley/
URL:https://www.thefraservalley.ca/events/christmas-in-the-village-of-fort-langley/
END:VEVENT
END:VCALENDAR