BEGIN:VCALENDAR
VERSION:2.0
PRODID:-//eventon.com NONSGML v1.0//EN
CALSCALE:GREGORIAN
METHOD:PUBLISH
BEGIN:VEVENT
UID:69ea2d8261c30
DTSTAMP:20260423T143234Z
DTSTART:20250104T030000Z
DTEND:20250104T075900Z
LOCATION:Langley Events Centre 7888 200 St\,  Langley Township\,  BC
SUMMARY:Vancouver Giants vs Wenatchee
DESCRIPTION:The Vancouver Giants face-off against the Wenatchee Wild\nhttps
 ://www.thefraservalley.ca/events/vancouver-giants-vs-wenatchee/
URL:https://www.thefraservalley.ca/events/vancouver-giants-vs-wenatchee/
END:VEVENT
END:VCALENDAR