BEGIN:VCALENDAR
VERSION:2.0
PRODID:-//eventon.com NONSGML v1.0//EN
CALSCALE:GREGORIAN
METHOD:PUBLISH
BEGIN:VEVENT
UID:69eb8cf2d9d7c
DTSTAMP:20260424T153202Z
DTSTART:20241227T180000Z
DTEND:20241227T200000Z
LOCATION:Abbotsford Recreation Centre 2499 McMillan Rd\,  Abbotsford\,  BC
SUMMARY:Holiday Hop
DESCRIPTION:Join us for our Holiday Hop! Watch our gym turn into a winter w
 onderland full of crafts\,  games\,  a photo booth\,  bouncy castle\,  face
  painting and more. Bounce around from station to station participating in 
 a variety of holiday themed fun. Sponsored by All Roads Construction and Ot
 ter COOP.\nhttps://www.thefraservalley.ca/events/holiday-hop/
URL:https://www.thefraservalley.ca/events/holiday-hop/
END:VEVENT
END:VCALENDAR