BEGIN:VCALENDAR
VERSION:2.0
PRODID:-//eventon.com NONSGML v1.0//EN
CALSCALE:GREGORIAN
METHOD:PUBLISH
BEGIN:VEVENT
UID:69e8aca20a51c
DTSTAMP:20260422T111026Z
DTSTART:20241215T194500Z
DTEND:20241216T075900Z
LOCATION:Chilliwack Coliseum 45323 Hodgins Ave\,  Chilliwack\,  BC
SUMMARY:Fun for All - Fraser Valley Thunderbirds Holiday Event
DESCRIPTION:The Fraser Valley Thunderbirds are hosting a family-friendly ho
 liday event on Sunday\,  December 15\,  at the Chilliwack Coliseum (45323 H
 odgins Ave\,  Chilliwack\,  BC). Key details: U18 Thunderbirds vs. Cariboo 
 Cougars at 12:15 PM U17 Thunderbirds vs. VI Royals at 3:00 PM U15 Thunderbi
 rds vs. NE Chiefs at 5:45 PM Activities[..]\nhttps://www.thefraservalley.ca
 /events/fun-for-all-fraser-valley-thunderbirds-holiday-event/
URL:https://www.thefraservalley.ca/events/fun-for-all-fraser-valley-thunderbirds-holiday-event/
END:VEVENT
END:VCALENDAR