BEGIN:VCALENDAR
VERSION:2.0
PRODID:-//eventon.com NONSGML v1.0//EN
CALSCALE:GREGORIAN
METHOD:PUBLISH
BEGIN:VEVENT
UID:69e5e10f13d62
DTSTAMP:20260420T081719Z
DTSTART:20250127T000000Z
DTEND:20250127T075900Z
LOCATION:Langley Events Centre 7888 200 St\,  Langley Township\,  BC
SUMMARY:Vancouver Giants vs. Swift Current Broncos
DESCRIPTION:The Vancouver Giants face-off against the Swift Current Broncos
 .\nhttps://www.thefraservalley.ca/events/vancouver-giants-vs-swift-current-
 broncos/
URL:https://www.thefraservalley.ca/events/vancouver-giants-vs-swift-current-broncos/
END:VEVENT
END:VCALENDAR