BEGIN:VCALENDAR
VERSION:2.0
PRODID:-//eventon.com NONSGML v1.0//EN
CALSCALE:GREGORIAN
METHOD:PUBLISH
BEGIN:VEVENT
UID:69eb267caf3d4
DTSTAMP:20260424T081452Z
DTSTART:20250217T020000Z
DTEND:20250217T075900Z
LOCATION:Fraser River Lodge 7984 McDonald Rd S\,  Agassiz\,  BC
SUMMARY:Chef's Table Dining
DESCRIPTION:Indulge in an extraordinary culinary adventure at Fraser River 
 Lodge’s exclusive Chef’s Table experience. Delight in a personalized di
 ning journey where each menu is meticulously crafted by our talented in-hou
 se chefs\,  ensuring a unique and unforgettable meal every time. With no se
 t menu\,  we cater to your preferences and dietary[..]\nhttps://www.thefras
 ervalley.ca/events/chefs-table-dining/
URL:https://www.thefraservalley.ca/events/chefs-table-dining/
END:VEVENT
END:VCALENDAR