BEGIN:VCALENDAR
VERSION:2.0
PRODID:-//eventon.com NONSGML v1.0//EN
CALSCALE:GREGORIAN
METHOD:PUBLISH
BEGIN:VEVENT
UID:69e78700a676b
DTSTAMP:20260421T141736Z
DTSTART:20250215T013000Z
DTEND:20250217T060000Z
LOCATION:Harrison Hot Springs Resort 100 Esplanade Ave\,  Harrison Hot Springs\,  BC
SUMMARY:Valentine's Day in the Copper Room
DESCRIPTION:Join us for a Date Night\,  Special Occasion\,  Celebration or 
 just a night out in The Copper Room and dance the night away! Savour your t
 ime by enjoying our West Coast flavours created by our culinary team and ni
 ghtly live entertainment. Reservations Required:604.796.2244 and ask for Th
 e Copper Room Dress[..]\nhttps://www.thefraservalley.ca/events/valentines-d
 ay-in-the-copper-room/
URL:https://www.thefraservalley.ca/events/valentines-day-in-the-copper-room/
END:VEVENT
END:VCALENDAR