BEGIN:VCALENDAR
VERSION:2.0
PRODID:-//eventon.com NONSGML v1.0//EN
CALSCALE:GREGORIAN
METHOD:PUBLISH
BEGIN:VEVENT
UID:69eb672c5f2e1
DTSTAMP:20260424T125052Z
DTSTART:20250316T020000Z
DTEND:20250316T043000Z
LOCATION:Manning Park Nordic Centre\,  7500 Hwy #3\,  Manning Park\,  BC
SUMMARY:Guided Snowshoe Tour & Fondue at Strawberry Flats
DESCRIPTION:Embark on an enchanting 2-hour Guided Snowshoe Tour through the
  scenic landscape of Manning Park. Conclude your journey at the cozy Strawb
 erry Flats Warming Hut\,  where a delightful fondue experience warmed by a 
 wood burning fire awaits. Whether you’re a seasoned outdoor enthusiast or
  a beginner looking to embrace the[..]\nhttps://www.thefraservalley.ca/even
 ts/guided-snowshoe-tour-fondue-at-strawberry-flats-2/
URL:https://www.thefraservalley.ca/events/guided-snowshoe-tour-fondue-at-strawberry-flats-2/
END:VEVENT
END:VCALENDAR