BEGIN:VCALENDAR
VERSION:2.0
PRODID:-//eventon.com NONSGML v1.0//EN
CALSCALE:GREGORIAN
METHOD:PUBLISH
BEGIN:VEVENT
UID:69eb5660e6e9f
DTSTAMP:20260424T113912Z
DTSTART:20250301T180000Z
DTEND:20250301T190000Z
LOCATION:Minter Country Garden 10015 Young Rd\,  Chilliwack\,  BC
SUMMARY:Grubs!
DESCRIPTION:Grubs have become a menace in many local lawns\,  so Shelley fr
 om Scott’s Canada will be joining us to share details on how to prevent\,
   control and deal with grub problems throughout the growing season. Timing
  and temperature are key factors\,  so this is a great time to learn more.[
 ..]\nhttps://www.thefraservalley.ca/events/grubs/
URL:https://www.thefraservalley.ca/events/grubs/
END:VEVENT
END:VCALENDAR