BEGIN:VCALENDAR
VERSION:2.0
PRODID:-//eventon.com NONSGML v1.0//EN
CALSCALE:GREGORIAN
METHOD:PUBLISH
BEGIN:VEVENT
UID:69e71f6f2f93f
DTSTAMP:20260421T065543Z
DTSTART:20250509T020000Z
DTEND:20250509T040000Z
LOCATION:Koko-Lu Painting Café 105-120 Esplanade Avenue\,  Harrison\,  BC
SUMMARY:Plate Stencil Workshop
DESCRIPTION:Craft a personalized keepsake to cherish for years to come at K
 oKo-Lu Painting Café! Whether you’re a beginner or a seasoned artist\,  
 this hands-on experience lets you design a one-of-a-kind plate using a wide
  selection of stencils. Don’t miss this fun and relaxing opportunity to e
 xplore your artistic side. Gather[..]\nhttps://www.thefraservalley.ca/event
 s/plate-stencil-workshop-3/
URL:https://www.thefraservalley.ca/events/plate-stencil-workshop-3/
END:VEVENT
END:VCALENDAR