BEGIN:VCALENDAR
VERSION:2.0
PRODID:-//eventon.com NONSGML v1.0//EN
CALSCALE:GREGORIAN
METHOD:PUBLISH
BEGIN:VEVENT
UID:69ec31c80ac7d
DTSTAMP:20260425T031520Z
DTSTART:20250414T020000Z
DTEND:20250414T040000Z
LOCATION:Fantasy Farms 9423 Gibson Rd\,  Chilliwack\,  BC
SUMMARY:Family GLOW Nights
DESCRIPTION:Family GLOW Night on the Farm. Let’s light up the night. Frid
 ays &amp; Sundays | Now through April 20th 7 PM – 9 PM | Hunt starts afte
 r 8 PM Get ready for a glowing good time! Join us on the farm for an unforg
 ettable evening of family fun under[..]\nhttps://www.thefraservalley.ca/eve
 nts/family-glow-nights-2/
URL:https://www.thefraservalley.ca/events/family-glow-nights-2/
END:VEVENT
END:VCALENDAR