BEGIN:VCALENDAR
VERSION:2.0
PRODID:-//eventon.com NONSGML v1.0//EN
CALSCALE:GREGORIAN
METHOD:PUBLISH
BEGIN:VEVENT
UID:69e9f8584c441
DTSTAMP:20260423T104544Z
DTSTART:20250427T010000Z
DTEND:20250427T033000Z
LOCATION:Taves Estate Cidery 333 Gladwin Road\,  Abbotsford\,  BC
SUMMARY:Magical Trivia n' Sip
DESCRIPTION:Fairytale&nbsp;Trivia\, &nbsp;cocktails\, &nbsp;&amp;&nbsp;cost
 umes&nbsp;with&nbsp;a&nbsp;magical&nbsp;twist! Form&nbsp;a&nbsp;team&nbsp;o
 f&nbsp;2&nbsp;or&nbsp;more&nbsp;and&nbsp;bring&nbsp;your&nbsp;most&nbsp;cle
 ver&nbsp;companions. Come&nbsp;in&nbsp;costume&nbsp;for&nbsp;a&nbsp;chance&
 nbsp;to&nbsp;win&nbsp;a&nbsp;special&nbsp;prize! 🌸Bonus:&nbsp;our&nbsp;S
 pring&nbsp;Princess&nbsp;Carriage&nbsp;will&nbsp;be&nbsp;here&nbsp;for&nbsp
 ;photo&nbsp;ops\nhttps://www.thefraservalley.ca/events/magical-trivia-n-sip
 /
URL:https://www.thefraservalley.ca/events/magical-trivia-n-sip/
END:VEVENT
END:VCALENDAR