BEGIN:VCALENDAR
VERSION:2.0
PRODID:-//eventon.com NONSGML v1.0//EN
CALSCALE:GREGORIAN
METHOD:PUBLISH
BEGIN:VEVENT
UID:69ed831d756c9
DTSTAMP:20260426T031437Z
DTSTART:20250503T170000Z
DTEND:20250503T230000Z
LOCATION:EcoFarm Discovery Centre 1356 Sumas Way\,  Chilliwack\,  BC
SUMMARY:Spring into the Season
DESCRIPTION:Grand Opening of Seasons Farm Market: Come check out the renova
 ted and reinvigorated Seasons Farm Market in the big red barn. Seasons has 
 all your farm fresh food and market needs – from free range eggs\,  local
  dairy products\,  garden fresh produce\,  fresh baked goods\,  decadent tr
 eats\,  fine cuts of[..]\nhttps://www.thefraservalley.ca/events/spring-into
 -the-season/
URL:https://www.thefraservalley.ca/events/spring-into-the-season/
END:VEVENT
END:VCALENDAR