BEGIN:VCALENDAR
VERSION:2.0
PRODID:-//eventon.com NONSGML v1.0//EN
CALSCALE:GREGORIAN
METHOD:PUBLISH
BEGIN:VEVENT
UID:69ed718a33328
DTSTAMP:20260426T015938Z
DTSTART:20250504T200000Z
DTEND:20250504T230000Z
LOCATION:Fraser Valley Artisans Food Hub 2570 Cryil st\,  Abbotsford\,  BC
SUMMARY:Pickling for Beginners Workshop
DESCRIPTION:Learn to Pickle Like a Pro! Want to save money\,  reduce food w
 aste\,  and eat better all year long? Join us for a Pickling for Beginners 
 Workshop and discover how to pickle your own food like an expert – no exp
 erience needed! What You’ll Learn:Pickled Artisan Asparagus – Learn how
 [..]\nhttps://www.thefraservalley.ca/events/pickling-for-beginners-workshop
 /
URL:https://www.thefraservalley.ca/events/pickling-for-beginners-workshop/
END:VEVENT
END:VCALENDAR