BEGIN:VCALENDAR
VERSION:2.0
PRODID:-//eventon.com NONSGML v1.0//EN
CALSCALE:GREGORIAN
METHOD:PUBLISH
BEGIN:VEVENT
UID:69e5b2f77a899
DTSTAMP:20260420T050039Z
DTSTART:20250823T020000Z
DTEND:20250823T065900Z
LOCATION:Creekside Cheese + Creamery 3990 Chaplin Rd\,  Agassiz\,  BC
SUMMARY:Summer Harvest Series: At the Cheesemaker's Table
DESCRIPTION:Join us on the farm for our 3rd annual dinner event: cocktails 
 + canapes in the barns followed by a farm-inspired long table dinner under 
 the stars. Meet and mingle with the farmers/cheesemakers and the cows\,  an
 d enjoy an exquisite meal prepared by Chef Craig of&nbsp;The Chef’s Acre\
 ,  featuring masterfully[..]\nhttps://www.thefraservalley.ca/events/summer-
 harvest-series-at-the-cheesemakers-table-2/
URL:https://www.thefraservalley.ca/events/summer-harvest-series-at-the-cheesemakers-table-2/
END:VEVENT
END:VCALENDAR