BEGIN:VCALENDAR
VERSION:2.0
PRODID:-//eventon.com NONSGML v1.0//EN
CALSCALE:GREGORIAN
METHOD:PUBLISH
BEGIN:VEVENT
UID:69e869c32e92e
DTSTAMP:20260422T062507Z
DTSTART:20250510
DTEND:20250511
LOCATION:Silverbrook Farm 1364 Bradner Rd\,  Abbotsford\,  BC
SUMMARY:Mothers Day Farm and Fishin Fun - Free fish processing with a bbq picnic package!
DESCRIPTION:Treat Mom to a Mother’s Day she’ll never forget at Silverbr
 ook Farm! Spend the day making memories with yard games 🏸\,  the petting
  zoo 🐐\,  picnic spots 🧺\,  and of course—fishin’ fun 🎣 for th
 e whole family! BONUS: All BBQ Picnic Packages 🍔 include free fish proce
 ssing 🐟🔪—because Mom deserves[..]\nhttps://www.thefraservalley.ca/e
 vents/mothers-day-farm-and-fishin-fun-free-fish-processing-with-a-bbq-picni
 c-package/
URL:https://www.thefraservalley.ca/events/mothers-day-farm-and-fishin-fun-free-fish-processing-with-a-bbq-picnic-package/
END:VEVENT
END:VCALENDAR