BEGIN:VCALENDAR
VERSION:2.0
PRODID:-//eventon.com NONSGML v1.0//EN
CALSCALE:GREGORIAN
METHOD:PUBLISH
BEGIN:VEVENT
UID:69e6c33c39759
DTSTAMP:20260421T002220Z
DTSTART:20250823T013000Z
DTEND:20250823T031500Z
LOCATION:Hope Memorial Park 3rd Avenue\,  Hope\,  BC
SUMMARY:Concerts in the Park
DESCRIPTION:Please join us every Friday in July and August (6:30-8:15pm) fo
 r FREE live music at the bandshell in Memorial Park!\nhttps://www.thefraser
 valley.ca/events/concerts-in-the-park-9/
URL:https://www.thefraservalley.ca/events/concerts-in-the-park-9/
END:VEVENT
END:VCALENDAR