BEGIN:VCALENDAR
VERSION:2.0
PRODID:-//eventon.com NONSGML v1.0//EN
CALSCALE:GREGORIAN
METHOD:PUBLISH
BEGIN:VEVENT
UID:69ecfa9147b28
DTSTAMP:20260425T173201Z
DTSTART:20250515T003000Z
DTEND:20250515T030000Z
LOCATION:Hugs in a Mug Coffee Bistro 100-1910 North Parallel Road\,  Abbotsford\,  BC
SUMMARY:Hugs in a Mug Coffee Bistro presents Bubba's Caffeine 'n' Gas-o-Lean
DESCRIPTION:Join Hugs in a Mug every other Wednesday evening from May14th t
 o September 17th for Bubba’s Caffeine-n-Gas-o-Lean! Enjoy a spectacularsh
 owcase of Classic Cars\,  Hot Rods\,  Low Riders\,  great food\,  and refre
 shingdrinks. Everyone is welcome\,  and participation is free. The car show
  runs from5:30-8pm. Don’t miss out on the fun!\nhttps://www.thefraservall
 ey.ca/events/hugs-in-a-mug-coffee-bistro-presents-bubbas-caffeine-n-gas-o-l
 ean/
URL:https://www.thefraservalley.ca/events/hugs-in-a-mug-coffee-bistro-presents-bubbas-caffeine-n-gas-o-lean/
END:VEVENT
END:VCALENDAR