BEGIN:VCALENDAR
VERSION:2.0
PRODID:-//eventon.com NONSGML v1.0//EN
CALSCALE:GREGORIAN
METHOD:PUBLISH
BEGIN:VEVENT
UID:69ec1d8a79e72
DTSTAMP:20260425T014858Z
DTSTART:20250614T210000Z
DTEND:20250614T230000Z
LOCATION:The Reach Gallery Museum 32388 Veterans Way\,  Abbotsford\,  BC
SUMMARY:Parallax(e) Opening Party
DESCRIPTION:The Reach invites you to a party celebrating the launch of the 
 landmark exhibition Parallax(e): Perspectives on the Canada–U.S. Border /
  Perspectives sur la frontière Canada–É-U and Art on Demand 11.2 – Mi
 chelle Msami: Becoming. The party features light refreshments\,  a cash bar
  and opening remarks at 3:00 pm.\nhttps://www.thefraservalley.ca/events/par
 allaxe-opening-party/
URL:https://www.thefraservalley.ca/events/parallaxe-opening-party/
END:VEVENT
END:VCALENDAR