BEGIN:VCALENDAR
VERSION:2.0
PRODID:-//eventon.com NONSGML v1.0//EN
CALSCALE:GREGORIAN
METHOD:PUBLISH
BEGIN:VEVENT
UID:69ec1e99a0602
DTSTAMP:20260425T015329Z
DTSTART:20250701T200000Z
DTEND:20250702T020000Z
LOCATION:Abbotsford Exhibition Park 32470 Haida Dr\,  Abbotsford\,  BC
SUMMARY:Canada Day Family Festival
DESCRIPTION:The Canada Day Family Festival starts at 1:00 PM at Abbotsford 
 Exhibition Park and will include interactive fun for all ages\,  including 
 the Activity Zones\,  Community Showcase\,  Marketplace\,  Food Trucks\,  M
 ain Stage Entertainment\,  and the Fireworks Finale presented by the Fraser
  Valley Auto Mall! ✨ Activity Zones ✨ Agri-Fun Zone:[..]\nhttps://www.t
 hefraservalley.ca/events/canada-day-family-festival/
URL:https://www.thefraservalley.ca/events/canada-day-family-festival/
END:VEVENT
END:VCALENDAR