BEGIN:VCALENDAR
VERSION:2.0
PRODID:-//eventon.com NONSGML v1.0//EN
CALSCALE:GREGORIAN
METHOD:PUBLISH
BEGIN:VEVENT
UID:69ec1e66479bc
DTSTAMP:20260425T015238Z
DTSTART:20250710T220000Z
DTEND:20250711T020000Z
LOCATION:Skydive Vancouver 5112 Gladwin Rd
SUMMARY:Leap of Faith by Cyrus Centre
DESCRIPTION:Event Details Leap of Faith is Cyrus Centre’s annual jump-a-t
 hon\,  where participants raise funds to support youth experiencing homeles
 sness in the Fraser Valley. It’s an experience like no other—a tandem s
 kydive with a purpose. This year\,  we’re jumping to raise critical funds
  for youth experiencing homelessness\,  helping them access safe[..]\nhttps
 ://www.thefraservalley.ca/events/leap-of-faith-by-cyrus-centre/
URL:https://www.thefraservalley.ca/events/leap-of-faith-by-cyrus-centre/
END:VEVENT
END:VCALENDAR