BEGIN:VCALENDAR
VERSION:2.0
PRODID:-//eventon.com NONSGML v1.0//EN
CALSCALE:GREGORIAN
METHOD:PUBLISH
BEGIN:VEVENT
UID:69ec1f75dde19
DTSTAMP:20260425T015709Z
DTSTART:20250723T163000Z
DTEND:20250723T184500Z
LOCATION:Matsqui Recreation Centre 3106 Clearbrook Rd
SUMMARY:Culture City: Figure Drawing with Artist Clement Yeh
DESCRIPTION:Join artist and educator Clement Yeh for a welcoming figure dra
 wing session designed for all skill levels. Whether you’re new to drawing
  or looking to deepen your practice\,  Clement brings years of experience a
 s a figurative artist and teacher to guide you through an engaging explorat
 ion of the human form.[..]\nhttps://www.thefraservalley.ca/events/culture-c
 ity-figure-drawing-with-artist-clement-yeh/
URL:https://www.thefraservalley.ca/events/culture-city-figure-drawing-with-artist-clement-yeh/
END:VEVENT
END:VCALENDAR