BEGIN:VCALENDAR
VERSION:2.0
PRODID:-//eventon.com NONSGML v1.0//EN
CALSCALE:GREGORIAN
METHOD:PUBLISH
BEGIN:VEVENT
UID:69e5e02115b8a
DTSTAMP:20260420T081321Z
DTSTART:20250803T230000Z
DTEND:20250804T020000Z
LOCATION:Homestead Cider 6046 Kamp Rd
SUMMARY:Live on the Lawn at Homestead Cider
DESCRIPTION:Every Sunday this summer enjoy craft cider\,  live music\,  and
  a bite from the on-site food trucks at Homestead Cider from 4 to 7 PM\, . 
 Sip a glass\,  flight\,  or bottle of Homestead’s growing selection of fl
 avours\,  and take in the live entertainment for the evening. On cooler eve
 nings\,  cozy[..]\nhttps://www.thefraservalley.ca/events/live-on-the-lawn-a
 t-homestead-cider-7/
URL:https://www.thefraservalley.ca/events/live-on-the-lawn-at-homestead-cider-7/
END:VEVENT
END:VCALENDAR