BEGIN:VCALENDAR
VERSION:2.0
PRODID:-//eventon.com NONSGML v1.0//EN
CALSCALE:GREGORIAN
METHOD:PUBLISH
BEGIN:VEVENT
UID:69eb9a06dd7ff
DTSTAMP:20260424T162750Z
DTSTART:20250808
DTEND:20250809
LOCATION:Chilliwack Heritage Park 44140 Luckakuck Way
SUMMARY:The Chilliwack Fair
DESCRIPTION:Join us this summer for the 153rd Annual Chilliwack Fair at Chi
 lliwack Heritage Park—a celebration of community\,  culture\,  and fun fo
 r all ages! Enjoy food vendors\,  live music\,  rodeo events\,  4-H animals
 \,  local artists\,  inflatable games\,  circus acts\,  laser tag\,  pig ra
 ces\,  and more. Tickets are available online or at[..]\nhttps://www.thefra
 servalley.ca/events/the-chilliwack-fair-2/
URL:https://www.thefraservalley.ca/events/the-chilliwack-fair-2/
END:VEVENT
END:VCALENDAR