BEGIN:VCALENDAR
VERSION:2.0
PRODID:-//eventon.com NONSGML v1.0//EN
CALSCALE:GREGORIAN
METHOD:PUBLISH
BEGIN:VEVENT
UID:69ec0bf2a6098
DTSTAMP:20260425T003354Z
DTSTART:20250808
DTEND:20250809
LOCATION:Abbotsford Airport 1625 Townline Road
SUMMARY:Abbotsford International Airshow
DESCRIPTION:A world-class lineup of military and civilian aerial performers
  dazzle spectators with jaw-dropping aerobatic routines and aircraft demons
 trations. More than just an air show\,  the event features more than 14 ac
 res of interactive exhibits\,  attractions and amenities for people of all 
 ages!\nhttps://www.thefraservalley.ca/events/abbotsford-international-airsh
 ow/
URL:https://www.thefraservalley.ca/events/abbotsford-international-airshow/
END:VEVENT
END:VCALENDAR