BEGIN:VCALENDAR
VERSION:2.0
PRODID:-//eventon.com NONSGML v1.0//EN
CALSCALE:GREGORIAN
METHOD:PUBLISH
BEGIN:VEVENT
UID:69ea62c97b81c
DTSTAMP:20260423T181953Z
DTSTART:20250810T020000Z
DTEND:20250810T053000Z
LOCATION:Silverbrook Farm 1364 Bradner Rd\,  Abbotsford\,  BC
SUMMARY:Fishin for Laffs!
DESCRIPTION:We’ve teamed up with Last Laffs Comedy to bring you a wild ni
 ght of stand-up comedy\,  critters\,  and catching good vibes – brought t
 o you by the Fishin’ in the Dark team. 🕖 7:00–10:30pm | Adults Only 
 Your $25 ticket includes: • 🎟️ A reserved seat for the comedy show[.
 .]\nhttps://www.thefraservalley.ca/events/fishin-for-laffs/
URL:https://www.thefraservalley.ca/events/fishin-for-laffs/
END:VEVENT
END:VCALENDAR