BEGIN:VCALENDAR
VERSION:2.0
PRODID:-//eventon.com NONSGML v1.0//EN
CALSCALE:GREGORIAN
METHOD:PUBLISH
BEGIN:VEVENT
UID:69ec0b6d6bcfc
DTSTAMP:20260425T003141Z
DTSTART:20250816T013000Z
DTEND:20250816T033000Z
LOCATION:Mill Lake Park - Emerson Entrance 2310 Emerson Street
SUMMARY:Symphony in the Park
DESCRIPTION:This 2-hour LIVE symphony orchestra concert is produced and con
 ducted by Calvin Dyck. You’ll enjoy classical favourites and movie tun
 es including the Overture from Mozart’s Marriage of Figaro\,  Haydn’s T
 rumpet Concerto\,  Superman March\,  a medley from The Sound of Music and s
 o much more. Also featured are dancers from Fraser Valley Academy of Dance
 .[..]\nhttps://www.thefraservalley.ca/events/symphony-in-the-park/
URL:https://www.thefraservalley.ca/events/symphony-in-the-park/
END:VEVENT
END:VCALENDAR