BEGIN:VCALENDAR
VERSION:2.0
PRODID:-//eventon.com NONSGML v1.0//EN
CALSCALE:GREGORIAN
METHOD:PUBLISH
BEGIN:VEVENT
UID:69ebf72c0a784
DTSTAMP:20260424T230516Z
DTSTART:20250918
DTEND:20250919
LOCATION:Fraserglen Golf Course 36036 S Parallel Rd\,  Abbotsford\,  BC
SUMMARY:Annual FVCDC Charity Golf Classic – Swing with Bling
DESCRIPTION:A fun-filled day on the course to support kids\,  youth\,  and 
 families in Abbotsford\,  Mission\,  Chilliwack\,  and the Fraser Cascades.
  Event Highlights Date: September 18\,  2025 Location: Fraserglen Golf Cour
 se\,  Abbotsford\,  BC Registration: 10:30 – 11:30 am Shotgun Start:  12
 pm\,  Texas Scramble 9 holes of golf Cost: $135pp (Early bird before[..]\n
 https://www.thefraservalley.ca/events/annual-fvcdc-charity-golf-classic-swi
 ng-with-bling/
URL:https://www.thefraservalley.ca/events/annual-fvcdc-charity-golf-classic-swing-with-bling/
END:VEVENT
END:VCALENDAR