BEGIN:VCALENDAR
VERSION:2.0
PRODID:-//eventon.com NONSGML v1.0//EN
CALSCALE:GREGORIAN
METHOD:PUBLISH
BEGIN:VEVENT
UID:69ebfa5cb784e
DTSTAMP:20260424T231852Z
DTSTART:20250928T023000Z
DTEND:20250928T065900Z
LOCATION:Abbotsford Arts Centre 2329 Crescent Way\,  Abbotsford\,  BC
SUMMARY:Canadian Steam: A Music & Comedy Show w/ Mildly Sexy Lumberjacks
DESCRIPTION:The cast of Canadian Steam has rocked stages at Just for Laughs
 \,  picked up Canadian Comedy Awards\,  and performed with Second City -app
 earing on CBC’s The Debaters\,  Netflix\,  and Amazon Prime. Now they’r
 e bringing you a comedy show that’s 100% Canadian and 1000% ridiculous. C
 anadian Steam: They’re Polite\,  But Not[..]\nhttps://www.thefraservalley
 .ca/events/canadian-steam-a-music-comedy-show-w-mildly-sexy-lumberjacks/
URL:https://www.thefraservalley.ca/events/canadian-steam-a-music-comedy-show-w-mildly-sexy-lumberjacks/
END:VEVENT
END:VCALENDAR