BEGIN:VCALENDAR
VERSION:2.0
PRODID:-//eventon.com NONSGML v1.0//EN
CALSCALE:GREGORIAN
METHOD:PUBLISH
BEGIN:VEVENT
UID:69ed4902a8f02
DTSTAMP:20260425T230642Z
DTSTART:20250828T230000Z
DTEND:20250829T020000Z
LOCATION:Pioneer Park 7011-7167 Pioneer Ave\,  Agassiz\,  BC V0M 1A0
SUMMARY:Agassiz Farm Fresh Market
DESCRIPTION:Head down to Pioneer Park every week to shop fresh produce\,  h
 andmade goods\,  and more in a welcoming\,  family-friendly atmosphere. Con
 nect with the community and enjoy the best of Agassiz!\nhttps://www.thefras
 ervalley.ca/events/agassiz-farm-fresh-market-2/
URL:https://www.thefraservalley.ca/events/agassiz-farm-fresh-market-2/
END:VEVENT
END:VCALENDAR