BEGIN:VCALENDAR
VERSION:2.0
PRODID:-//eventon.com NONSGML v1.0//EN
CALSCALE:GREGORIAN
METHOD:PUBLISH
BEGIN:VEVENT
UID:69ed33203f6b6
DTSTAMP:20260425T213320Z
DTSTART:20250922T000000Z
DTEND:20250922T040000Z
LOCATION:Kilby Historic Site 215 Kilby Road\,  Harrison\,  BC
SUMMARY:GATHER: A Social Dining Experience
DESCRIPTION:Save the date! Kilby Historic Site will be hosting a buffet-sty
 le dinner fundraiser.\nhttps://www.thefraservalley.ca/events/gather-a-socia
 l-dining-experience-2/
URL:https://www.thefraservalley.ca/events/gather-a-social-dining-experience-2/
END:VEVENT
END:VCALENDAR