BEGIN:VCALENDAR
VERSION:2.0
PRODID:-//eventon.com NONSGML v1.0//EN
CALSCALE:GREGORIAN
METHOD:PUBLISH
BEGIN:VEVENT
UID:69ebe35d351a9
DTSTAMP:20260424T214045Z
DTSTART:20250824T193000Z
DTEND:20250824T223000Z
LOCATION:Ripples Winery &amp; New Wave Distilling 3387 Tolmie Road\,  Abbotsford\,  B.C.
SUMMARY:Live Music at Ripples Winery
DESCRIPTION:Live Music at Ripples Winery &#8211; Sunday Aug 24\,  12:30-3:3
 0 pm.Reservations recommended Jana Seale &#8211;&nbsp;Chill West Coast Vibe
 s.Acoustic Vintage Pop &amp; Folk to Contemporary Favourites.https://www.ja
 naseale.com@janasealemusichttps://www.facebook.com/jana.seale.music Craft w
 ines\,  cocktails &amp; mocktails.Extensive Tapas menu &#8211; shareables a
 nd bites.\nhttps://www.thefraservalley.ca/events/live-music-at-ripples-wine
 ry/
URL:https://www.thefraservalley.ca/events/live-music-at-ripples-winery/
END:VEVENT
END:VCALENDAR