BEGIN:VCALENDAR
VERSION:2.0
PRODID:-//eventon.com NONSGML v1.0//EN
CALSCALE:GREGORIAN
METHOD:PUBLISH
BEGIN:VEVENT
UID:69ebe0951deb9
DTSTAMP:20260424T212853Z
DTSTART:20250926
DTEND:20250927
LOCATION:Tanglebank Estate 29985 Downes Rd
SUMMARY:Terror at Tanglebank
DESCRIPTION:Terror at Tanglebank Returns This Fall at Tanglebank Estate Bra
 ce yourselves\,  thrill‑seekers! Terror at Tanglebank is officially retur
 ning to Tanglebank Estate this autumn\,  promising to be bigger and scarier
  than ever. This spine tingling Halloween experience packed with immersive 
 scares\,  seasonal fun\,  and unforgettable memories. Event Highlights: Hau
 nted Forest Trails:[..]\nhttps://www.thefraservalley.ca/events/terror-at-ta
 nglebank-2025/
URL:https://www.thefraservalley.ca/events/terror-at-tanglebank-2025/
END:VEVENT
END:VCALENDAR