BEGIN:VCALENDAR
VERSION:2.0
PRODID:-//eventon.com NONSGML v1.0//EN
CALSCALE:GREGORIAN
METHOD:PUBLISH
BEGIN:VEVENT
UID:69ebe4d513f5b
DTSTAMP:20260424T214701Z
DTSTART:20251018T023000Z
DTEND:20251018T050000Z
LOCATION:Abbotsford Arts Centre 2329 Crescent Way\,  Abbotsford\,  BC
SUMMARY:Take it to the Limit - The Ultimate Eagles Tribute
DESCRIPTION:Eagles fans\,  don’t miss this! 🦅 On Oct 17th\,  Eagles Tr
 ibute – Take It To The Limit comes to the Abbotsford Arts Centre for an u
 nforgettable evening! Experience Eagles classics like Hotel California\,  T
 ake It Easy\,  Life in the Fast Lane\,  and more\,  performed by world-clas
 s musicians and vocalists. With[..]\nhttps://www.thefraservalley.ca/events/
 take-it-to-the-limit-the-ultimate-eagles-tribute/
URL:https://www.thefraservalley.ca/events/take-it-to-the-limit-the-ultimate-eagles-tribute/
END:VEVENT
END:VCALENDAR