BEGIN:VCALENDAR
VERSION:2.0
PRODID:-//eventon.com NONSGML v1.0//EN
CALSCALE:GREGORIAN
METHOD:PUBLISH
BEGIN:VEVENT
UID:69ecbbf17a60d
DTSTAMP:20260425T130449Z
DTSTART:20250930
DTEND:20251001
LOCATION:Greendale Acres 41905 Yale Rd W\,  Chilliwack\,  BC
SUMMARY:Truth & Reconciliation Day
DESCRIPTION:As an acknowledgement of living and working on the traditional\
 ,  ancestral and unceded territory of the Sto:Lo people\,  Greendale Acres 
 will mark the solemn occasion of Truth and Reconciliation Day by offering f
 ree admission for all indigenous community members from 10 a.m. to 6 p.m.\,
   commemorate Orange Shirt Day\,  and[..]\nhttps://www.thefraservalley.ca/e
 vents/truth-reconciliation-day/
URL:https://www.thefraservalley.ca/events/truth-reconciliation-day/
END:VEVENT
END:VCALENDAR