BEGIN:VCALENDAR
VERSION:2.0
PRODID:-//eventon.com NONSGML v1.0//EN
CALSCALE:GREGORIAN
METHOD:PUBLISH
BEGIN:VEVENT
UID:69ea527d83ad7
DTSTAMP:20260423T171021Z
DTSTART:20251115T170000Z
DTEND:20251115T200000Z
LOCATION:Fishtrap Creek Park 31480 Maclure Rd\,  Abbotsford
SUMMARY:Together We Plant
DESCRIPTION:Are you someone who wants to make a difference for nature and t
 he people of the Fraser Valley? Do you want to help wildlife living in urba
 n environments? Do you like planting? If so\,  we want you on our team! Weâ
 €™re looking for energetic volunteers to help us plant 1000[..]\nhttps://ww
 w.thefraservalley.ca/events/together-we-plant/
URL:https://www.thefraservalley.ca/events/together-we-plant/
END:VEVENT
END:VCALENDAR