BEGIN:VCALENDAR
VERSION:2.0
PRODID:-//eventon.com NONSGML v1.0//EN
CALSCALE:GREGORIAN
METHOD:PUBLISH
BEGIN:VEVENT
UID:69e99046f2b33
DTSTAMP:20260423T032142Z
DTSTART:20251122T010000Z
DTEND:20251122T063000Z
LOCATION:The Lodge on Harrison Lake 6155 Rockwell Dr\,  Harrison\,  BC
SUMMARY:Together at the Table - Long Table Dinner
DESCRIPTION:The Lodge on Harrison Lake invites guests to the First Annual 
 Together at the Table” — an elegant long-table evening celebrating lo
 cal flavours and community. The event features a locally inspired menu by T
 he Wild Forager\,  wine pairings by Vows &amp; Vines Vineyard\,  live music
  by Annika &amp; Pete\,  and[..]\nhttps://www.thefraservalley.ca/events/tog
 ether-at-the-table-long-table-dinner/
URL:https://www.thefraservalley.ca/events/together-at-the-table-long-table-dinner/
END:VEVENT
END:VCALENDAR