BEGIN:VCALENDAR
VERSION:2.0
PRODID:-//eventon.com NONSGML v1.0//EN
CALSCALE:GREGORIAN
METHOD:PUBLISH
BEGIN:VEVENT
UID:69ebd3887afbc
DTSTAMP:20260424T203312Z
DTSTART:20251206T020000Z
DTEND:20251206T075900Z
LOCATION:Abbotsford Centre 33800 King Rd\,  Abbotsford\,  BC
SUMMARY:Cirque Musica Holiday Wonderland
DESCRIPTION:Celebrate the season with a dazzling family-friendly show that 
 combines breathtaking cirque performers\,  festive music\,  and holiday che
 er. From soaring acrobatics to heartwarming moments\,  Cirque Musica Holida
 y Wonderland is an unforgettable experience for all ages.\nhttps://www.thef
 raservalley.ca/events/cirque-musica-holiday-wonderland/
URL:https://www.thefraservalley.ca/events/cirque-musica-holiday-wonderland/
END:VEVENT
END:VCALENDAR